BEGIN:VCALENDAR
VERSION:2.0
PRODID:-//eventon.com NONSGML v1.0//EN
CALSCALE:GREGORIAN
METHOD:PUBLISH
BEGIN:VEVENT
UID:69e517cd09843
DTSTAMP:20260419T175837Z
DTSTART:20211001T080000Z
DTEND:20211001T105000Z
LOCATION:
SUMMARY:NEBENAN
DESCRIPTION:NEBENAN\nhttps://www.hitch.de/aktuellefilme/nebenan-2/
URL:https://www.hitch.de/aktuellefilme/nebenan-2/
END:VEVENT
END:VCALENDAR