BEGIN:VCALENDAR
VERSION:2.0
PRODID:-//eventon.com NONSGML v1.0//EN
CALSCALE:GREGORIAN
METHOD:PUBLISH
BEGIN:VEVENT
UID:69e72d1816a10
DTSTAMP:20260421T075400Z
DTSTART:20211007T080000Z
DTEND:20211007T105000Z
LOCATION:
SUMMARY:NEBENAN
DESCRIPTION:NEBENAN\nhttps://www.hitch.de/aktuellefilme/nebenan-2/var/ri-6.
 l-L1
URL:https://www.hitch.de/aktuellefilme/nebenan-2/var/ri-6.l-L1
END:VEVENT
END:VCALENDAR