BEGIN:VCALENDAR
VERSION:2.0
PRODID:-//eventon.com NONSGML v1.0//EN
CALSCALE:GREGORIAN
METHOD:PUBLISH
BEGIN:VEVENT
UID:69e88b147273d
DTSTAMP:20260422T084716Z
DTSTART:20220403T080000Z
DTEND:20220403T105000Z
LOCATION:
SUMMARY:À LA CARTE – FREIHEIT GEHT DURCH DEN MAGEN
DESCRIPTION:À LA CARTE – FREIHEIT GEHT DURCH DEN MAGEN\nhttps://www.hitc
 h.de/aktuellefilme/a-la-carte-freiheit-geht-durch-den-magen-copy/var/ri-1.l
 -L1
URL:https://www.hitch.de/aktuellefilme/a-la-carte-freiheit-geht-durch-den-magen-copy/var/ri-1.l-L1
END:VEVENT
END:VCALENDAR