BEGIN:VCALENDAR
VERSION:2.0
PRODID:-//eventon.com NONSGML v1.0//EN
CALSCALE:GREGORIAN
METHOD:PUBLISH
BEGIN:VEVENT
UID:69e72de0f0eff
DTSTAMP:20260421T075720Z
DTSTART:20220531T060000Z
DTEND:20220531T105000Z
LOCATION:
SUMMARY:A HERO – DIE VERLORENE EHRE DES HERRN SOLTANI
DESCRIPTION:A HERO – DIE VERLORENE EHRE DES HERRN SOLTANI\nhttps://www.hi
 tch.de/aktuellefilme/a-hero-die-verlorene-ehre-des-herrn-soltani-copy/
URL:https://www.hitch.de/aktuellefilme/a-hero-die-verlorene-ehre-des-herrn-soltani-copy/
END:VEVENT
END:VCALENDAR