BEGIN:VCALENDAR
VERSION:2.0
PRODID:-//eventon.com NONSGML v1.0//EN
CALSCALE:GREGORIAN
METHOD:PUBLISH
BEGIN:VEVENT
UID:69e889ce6ff68
DTSTAMP:20260422T084150Z
DTSTART:20221229T081500Z
DTEND:20221229T105000Z
LOCATION:
SUMMARY:EINFACH MAL WAS SCHÖNES
DESCRIPTION:EINFACH MAL WAS SCHÖNES\nhttps://www.hitch.de/aktuellefilme/ei
 nfach-mal-was-schoenes-copy-2/var/ri-1.l-L1
URL:https://www.hitch.de/aktuellefilme/einfach-mal-was-schoenes-copy-2/var/ri-1.l-L1
END:VEVENT
END:VCALENDAR