BEGIN:VCALENDAR
VERSION:2.0
PRODID:-//eventon.com NONSGML v1.0//EN
CALSCALE:GREGORIAN
METHOD:PUBLISH
BEGIN:VEVENT
UID:69e88a61c3e9d
DTSTAMP:20260422T084417Z
DTSTART:20230905T060000Z
DTEND:20230905T105000Z
LOCATION:
SUMMARY:DIE UNSCHÄRFERELATION DER LIEBE
DESCRIPTION:DIE UNSCHÄRFERELATION DER LIEBE\nhttps://www.hitch.de/aktuelle
 filme/die-unschaerferelation-der-liebe-3/
URL:https://www.hitch.de/aktuellefilme/die-unschaerferelation-der-liebe-3/
END:VEVENT
END:VCALENDAR