BEGIN:VCALENDAR
VERSION:2.0
PRODID:-//eventon.com NONSGML v1.0//EN
CALSCALE:GREGORIAN
METHOD:PUBLISH
BEGIN:VEVENT
UID:69e6e865d83d6
DTSTAMP:20260421T030053Z
DTSTART:20231011T060000Z
DTEND:20231011T105000Z
LOCATION:
SUMMARY:PAULETTE »kfd«
DESCRIPTION:PAULETTE »kfd«\nhttps://www.hitch.de/aktuellefilme/paulette-k
 fd/
URL:https://www.hitch.de/aktuellefilme/paulette-kfd/
END:VEVENT
END:VCALENDAR