BEGIN:VCALENDAR
VERSION:2.0
PRODID:-//eventon.com NONSGML v1.0//EN
CALSCALE:GREGORIAN
METHOD:PUBLISH
BEGIN:VEVENT
UID:69ecc3763ab2d
DTSTAMP:20260425T133654Z
DTSTART:20231225T030000Z
DTEND:20231227T105900Z
LOCATION:
SUMMARY:☺ WIR WÜNSCHEN EIN FROHES WEIHNACHTSFEST ... ☺
DESCRIPTION:☺ WIR WÜNSCHEN EIN FROHES WEIHNACHTSFEST ... ☺\nhttps://ww
 w.hitch.de/aktuellefilme/wir-wuenschen-ein-frohes-weihnachtsfest/
URL:https://www.hitch.de/aktuellefilme/wir-wuenschen-ein-frohes-weihnachtsfest/
END:VEVENT
END:VCALENDAR