BEGIN:VCALENDAR
VERSION:2.0
PRODID:-//eventon.com NONSGML v1.0//EN
CALSCALE:GREGORIAN
METHOD:PUBLISH
BEGIN:VEVENT
UID:69e8a011bf70b
DTSTAMP:20260422T101649Z
DTSTART:20240209T060000Z
DTEND:20240209T105000Z
LOCATION:
SUMMARY:15 Jahre
DESCRIPTION:15 Jahre\nhttps://www.hitch.de/aktuellefilme/15-jahre/
URL:https://www.hitch.de/aktuellefilme/15-jahre/
END:VEVENT
END:VCALENDAR