BEGIN:VCALENDAR
VERSION:2.0
PRODID:-//eventon.com NONSGML v1.0//EN
CALSCALE:GREGORIAN
METHOD:PUBLISH
BEGIN:VEVENT
UID:69e88a54e4ea5
DTSTAMP:20260422T084404Z
DTSTART:20250318T201500Z
DTEND:20250318T235900Z
LOCATION:
SUMMARY:DIE LEISEN UND DIE GROSSEN TÖNE
DESCRIPTION:DIE LEISEN UND DIE GROSSEN TÖNE\nhttps://www.hitch.de/aktuelle
 filme/die-leisen-und-die-grossen-toene-copy-4/var/ri-1.l-L1
URL:https://www.hitch.de/aktuellefilme/die-leisen-und-die-grossen-toene-copy-4/var/ri-1.l-L1
END:VEVENT
END:VCALENDAR