BEGIN:VCALENDAR
VERSION:2.0
PRODID:-//eventon.com NONSGML v1.0//EN
CALSCALE:GREGORIAN
METHOD:PUBLISH
BEGIN:VEVENT
UID:69e8a06dd182c
DTSTAMP:20260422T101821Z
DTSTART:20251012T163000Z
DTEND:20251012T235900Z
LOCATION:
SUMMARY:DER SALZPFAD
DESCRIPTION:DER SALZPFAD\nhttps://www.hitch.de/aktuellefilme/der-salzpfad-c
 opy/var/ri-1.l-L1
URL:https://www.hitch.de/aktuellefilme/der-salzpfad-copy/var/ri-1.l-L1
END:VEVENT
END:VCALENDAR