BEGIN:VCALENDAR
VERSION:2.0
PRODID:-//eventon.com NONSGML v1.0//EN
CALSCALE:GREGORIAN
METHOD:PUBLISH
BEGIN:VEVENT
UID:69e88bbd94191
DTSTAMP:20260422T085005Z
DTSTART:20251117T180000Z
DTEND:20251117T235900Z
LOCATION:
SUMMARY:AMRUM
DESCRIPTION:AMRUM\nhttps://www.hitch.de/aktuellefilme/amrum-3/
URL:https://www.hitch.de/aktuellefilme/amrum-3/
END:VEVENT
END:VCALENDAR