BEGIN:VCALENDAR
VERSION:2.0
PRODID:-//eventon.com NONSGML v1.0//EN
CALSCALE:GREGORIAN
METHOD:PUBLISH
BEGIN:VEVENT
UID:69e73c5986208
DTSTAMP:20260421T085905Z
DTSTART:20260212T180000Z
DTEND:20260212T225900Z
LOCATION:
SUMMARY:DIE JÜNGSTE TOCHTER
DESCRIPTION:DIE JÜNGSTE TOCHTER\nhttps://www.hitch.de/aktuellefilme/die-ju
 engste-tochter/
URL:https://www.hitch.de/aktuellefilme/die-juengste-tochter/
END:VEVENT
END:VCALENDAR