BEGIN:VCALENDAR
VERSION:2.0
PRODID:-//eventon.com NONSGML v1.0//EN
CALSCALE:GREGORIAN
METHOD:PUBLISH
BEGIN:VEVENT
UID:69e72c89a2ff6
DTSTAMP:20260421T075137Z
DTSTART:20260319T180000Z
DTEND:20260319T225900Z
LOCATION:
SUMMARY:HAMNET
DESCRIPTION:HAMNET\nhttps://www.hitch.de/aktuellefilme/hamnet/
URL:https://www.hitch.de/aktuellefilme/hamnet/
END:VEVENT
END:VCALENDAR